BEGIN:VCALENDAR
VERSION:2.0
PRODID:-//RIGHTHERE//CALENDARIZE IT V3.2//EN
BEGIN:VTIMEZONE
TZID:America/Los_Angeles
X-MICROSOFT-CDO-TZID:13
BEGIN:STANDARD
DTSTART:20251102T090000
TZOFFSETFROM:-0700
TZOFFSETTO:-0800
TZNAME:PST
END:STANDARD
BEGIN:DAYLIGHT
DTSTART:20260308T100000
TZOFFSETFROM:-0800
TZOFFSETTO:-0700
TZNAME:PDT
END:DAYLIGHT
BEGIN:STANDARD
DTSTART:20261101T090000
TZOFFSETFROM:-0700
TZOFFSETTO:-0800
TZNAME:PST
END:STANDARD
END:VTIMEZONE
BEGIN:VEVENT
UID:5522-events@whatsuptemecula.com
DTSTART;TZID=America/Los_Angeles:20150829T110000
DTEND;TZID=America/Los_Angeles:20150829T180000
DTSTAMP;TZID=America/Los_Angeles:20150826T103643
SUMMARY:Hatch Chile Festival
DESCRIPTION:Add a little spice to your life at the City of Temeculaâ€™s ann
 ual Hatch Chile Festival this weekend in Old Town. Sponsored by the cityâ€
 ™s Community Services Department and Chile Hedz hot sauce store\, the Hatc
 h Chile Festival will transform Town Square Park into a spice-lovers dream
 \; roasting and selling over 10\,000 pounds of fresh Chile peppers to atte
 ndees.
RRULE:FREQ=DAILY;INTERVAL=1;UNTIL=20150830
URL:https://whatsuptemecula.com/event/hatch-chile-festival-2015/
LOCATION:41902 Main Street\, Temecula\, CA 92592
END:VEVENT
END:VCALENDAR