BEGIN:VCALENDAR
VERSION:2.0
PRODID:-//RIGHTHERE//CALENDARIZE IT V3.2//EN
BEGIN:VTIMEZONE
TZID:America/Los_Angeles
X-MICROSOFT-CDO-TZID:13
BEGIN:STANDARD
DTSTART:20251102T090000
TZOFFSETFROM:-0700
TZOFFSETTO:-0800
TZNAME:PST
END:STANDARD
BEGIN:DAYLIGHT
DTSTART:20260308T100000
TZOFFSETFROM:-0800
TZOFFSETTO:-0700
TZNAME:PDT
END:DAYLIGHT
BEGIN:STANDARD
DTSTART:20261101T090000
TZOFFSETFROM:-0700
TZOFFSETTO:-0800
TZNAME:PST
END:STANDARD
END:VTIMEZONE
BEGIN:VEVENT
UID:4632-events@whatsuptemecula.com
DTSTART;TZID=America/Los_Angeles:20150502T200000
DTEND;TZID=America/Los_Angeles:20150502T000000
DTSTAMP;TZID=America/Los_Angeles:20150429T233644
SUMMARY:The Moody Blues @Pechanga
DESCRIPTION:The Moody Blues are currently on a tour to promote their career
 -spanning box CD and DVD set\, “Timeless Flight\,” which not only refe
 rences their epic hits like “Nights in White Satin\,” and “I’m Jus
 t a Singer (In a Rock in Roll Band)\,” but also introduces lifelong Mood
 y Blues fans to never-before-released tracks and concert footage.
URL:https://whatsuptemecula.com/event/the-moody-blues-pechanga-20150502/
LOCATION:45000 Pechanga Parkway\, Temecula\, CA 92592
END:VEVENT
END:VCALENDAR