BEGIN:VCALENDAR
VERSION:2.0
PRODID:-//RIGHTHERE//CALENDARIZE IT V3.2//EN
BEGIN:VTIMEZONE
TZID:America/Los_Angeles
X-MICROSOFT-CDO-TZID:13
BEGIN:STANDARD
DTSTART:20251102T090000
TZOFFSETFROM:-0700
TZOFFSETTO:-0800
TZNAME:PST
END:STANDARD
BEGIN:DAYLIGHT
DTSTART:20260308T100000
TZOFFSETFROM:-0800
TZOFFSETTO:-0700
TZNAME:PDT
END:DAYLIGHT
BEGIN:STANDARD
DTSTART:20261101T090000
TZOFFSETFROM:-0700
TZOFFSETTO:-0800
TZNAME:PST
END:STANDARD
END:VTIMEZONE
BEGIN:VEVENT
UID:3961-events@whatsuptemecula.com
DTSTART;TZID=America/Los_Angeles:20150213T200000
DTEND;TZID=America/Los_Angeles:20150213T000000
DTSTAMP;TZID=America/Los_Angeles:20150210T210634
SUMMARY:Jeff Garcia @Pechanga
RDATE;TZID=America/Los_Angeles:20150213T220000,20150214T200000,20150214T220
 000,20150215T193000
URL:https://whatsuptemecula.com/event/jeff-garcia-pechanga-20150213/
LOCATION:45000 Pechanga Parkway\, Temecula\, CA 92592
END:VEVENT
END:VCALENDAR