BEGIN:VCALENDAR
VERSION:2.0
PRODID:-//RIGHTHERE//CALENDARIZE IT V3.2//EN
BEGIN:VTIMEZONE
TZID:America/Los_Angeles
X-MICROSOFT-CDO-TZID:13
BEGIN:STANDARD
DTSTART:20251102T090000
TZOFFSETFROM:-0700
TZOFFSETTO:-0800
TZNAME:PST
END:STANDARD
BEGIN:DAYLIGHT
DTSTART:20260308T100000
TZOFFSETFROM:-0800
TZOFFSETTO:-0700
TZNAME:PDT
END:DAYLIGHT
BEGIN:STANDARD
DTSTART:20261101T090000
TZOFFSETFROM:-0700
TZOFFSETTO:-0800
TZNAME:PST
END:STANDARD
END:VTIMEZONE
BEGIN:VEVENT
UID:3859-events@whatsuptemecula.com
DTSTART;TZID=America/Los_Angeles:20150206T173000
DTEND;TZID=America/Los_Angeles:20150206T190000
DTSTAMP;TZID=America/Los_Angeles:20150204T172122
SUMMARY:Artist’s Reception\, Sylvia Greenfield Exhibit @The Merc
URL:https://whatsuptemecula.com/event/artists-reception-sylvia-greenfield-e
 xhibit-merc-20150206/
LOCATION:42051 Main St\, Temecula\, CA 92590
END:VEVENT
END:VCALENDAR