BEGIN:VCALENDAR
VERSION:2.0
PRODID:-//RIGHTHERE//CALENDARIZE IT V3.2//EN
BEGIN:VTIMEZONE
TZID:America/Los_Angeles
X-MICROSOFT-CDO-TZID:13
BEGIN:STANDARD
DTSTART:20251102T090000
TZOFFSETFROM:-0700
TZOFFSETTO:-0800
TZNAME:PST
END:STANDARD
BEGIN:DAYLIGHT
DTSTART:20260308T100000
TZOFFSETFROM:-0800
TZOFFSETTO:-0700
TZNAME:PDT
END:DAYLIGHT
BEGIN:STANDARD
DTSTART:20261101T090000
TZOFFSETFROM:-0700
TZOFFSETTO:-0800
TZNAME:PST
END:STANDARD
END:VTIMEZONE
BEGIN:VEVENT
UID:3695-events@whatsuptemecula.com
DTSTART;TZID=America/Los_Angeles:20150122T190000
DTEND;TZID=America/Los_Angeles:20150122T000000
DTSTAMP;TZID=America/Los_Angeles:20150121T095454
SUMMARY:Cinderella @OTTCT
RDATE;TZID=America/Los_Angeles:20150123T190000,20150124T130000,20150124T190
 000,20150125T130000
URL:https://whatsuptemecula.com/event/cinderella-ottct-20150122-20150125/
LOCATION:42051 Main St\, Temecula\, CA 92590
END:VEVENT
END:VCALENDAR