BEGIN:VCALENDAR
VERSION:2.0
PRODID:-//RIGHTHERE//CALENDARIZE IT V3.2//EN
BEGIN:VTIMEZONE
TZID:America/Los_Angeles
X-MICROSOFT-CDO-TZID:13
BEGIN:STANDARD
DTSTART:20251102T090000
TZOFFSETFROM:-0700
TZOFFSETTO:-0800
TZNAME:PST
END:STANDARD
BEGIN:DAYLIGHT
DTSTART:20260308T100000
TZOFFSETFROM:-0800
TZOFFSETTO:-0700
TZNAME:PDT
END:DAYLIGHT
BEGIN:STANDARD
DTSTART:20261101T090000
TZOFFSETFROM:-0700
TZOFFSETTO:-0800
TZNAME:PST
END:STANDARD
END:VTIMEZONE
BEGIN:VEVENT
UID:2697-events@whatsuptemecula.com
DTSTART;TZID=America/Los_Angeles:20141031T190000
DTEND;TZID=America/Los_Angeles:20141031T000000
DTSTAMP;TZID=America/Los_Angeles:20141024T101252
SUMMARY:Night of the Living Wine-O’s @Lorimar Winery
URL:https://whatsuptemecula.com/event/night-living-wine-os-lorimar-winery-2
 0141031/
LOCATION:39990 Anza Road\, Temecula\, CA 92592
END:VEVENT
END:VCALENDAR